BEGIN:VCALENDAR
VERSION:2.0
PRODID:-//Bezpečný prístav - ECPv6.15.17.1//NONSGML v1.0//EN
CALSCALE:GREGORIAN
METHOD:PUBLISH
X-ORIGINAL-URL:https://www.bezpecnypristav.sk
X-WR-CALDESC:Udalosti pre Bezpečný prístav
REFRESH-INTERVAL;VALUE=DURATION:PT1H
X-Robots-Tag:noindex
X-PUBLISHED-TTL:PT1H
BEGIN:VTIMEZONE
TZID:Europe/Bratislava
BEGIN:DAYLIGHT
TZOFFSETFROM:+0100
TZOFFSETTO:+0200
TZNAME:CEST
DTSTART:20200329T010000
END:DAYLIGHT
BEGIN:STANDARD
TZOFFSETFROM:+0200
TZOFFSETTO:+0100
TZNAME:CET
DTSTART:20201025T010000
END:STANDARD
BEGIN:DAYLIGHT
TZOFFSETFROM:+0100
TZOFFSETTO:+0200
TZNAME:CEST
DTSTART:20210328T010000
END:DAYLIGHT
BEGIN:STANDARD
TZOFFSETFROM:+0200
TZOFFSETTO:+0100
TZNAME:CET
DTSTART:20211031T010000
END:STANDARD
BEGIN:DAYLIGHT
TZOFFSETFROM:+0100
TZOFFSETTO:+0200
TZNAME:CEST
DTSTART:20220327T010000
END:DAYLIGHT
BEGIN:STANDARD
TZOFFSETFROM:+0200
TZOFFSETTO:+0100
TZNAME:CET
DTSTART:20221030T010000
END:STANDARD
END:VTIMEZONE
BEGIN:VEVENT
DTSTART;TZID=Europe/Bratislava:20211002T090000
DTEND;TZID=Europe/Bratislava:20211002T160000
DTSTAMP:20260426T053850
CREATED:20210913T082052Z
LAST-MODIFIED:20210919T105943Z
UID:718-1633165200-1633190400@www.bezpecnypristav.sk
SUMMARY:Kurz sebaobrany zadarmo - vstup voľný
DESCRIPTION:Pozývame vás na otvorený seminár sebaobrany a osobného bezpečia. Seminár je zdarma a je podporený mestom Košice. V praktických nácvikoch rôznych situácií sa naučíte ako predchádzať slovným aj fyzickým konfliktom\, ako ich ukľudniť ale aj čo spraviť ak na vás útočník zaútočí. Budeme sa venovať aj témam prevencie\, situačnej pozornosti\, práce s vlastným priestorom a vlastným bezpečím.\nSeminár je rozdelený na dva nezávislé bloky od 9:00 do 12:00 a od 13:00 do 16:00\nSeminár je a určený pre všetkých od 16 rokov a bude sa riadiť aktuálne platnými opatreniami v súvislosti s koronavírusom. Priebežne vás o nich budeme informovať. Na seminár je povinná registrácia emailom na info@bezpecnypristav.sk\n#sebaobrana #nebudobet #sebaobranazeny #sebaobranajuniori #realnasebaobranakosice #kosice #sebaobranadeti #bezpecnypristav #mestokosice #kosice #zdravie #postcovid #bezpecie #sebaobranamuzi #sebaobranadospeli
URL:https://www.bezpecnypristav.sk/event/sebaobrana-pre-ucitelov-a-dospelych/
CATEGORIES:odporúčané
ATTACH;FMTTYPE=image/jpeg:https://www.bezpecnypristav.sk/wp-content/uploads/2019/01/SZS_Kukucinova_Realna_sebaobrana_Kosice_Cesta_z_domu.jpg
END:VEVENT
BEGIN:VEVENT
DTSTART;TZID=Europe/Bratislava:20210927T080000
DTEND;TZID=Europe/Bratislava:20210927T140000
DTSTAMP:20260426T053850
CREATED:20210914T090949Z
LAST-MODIFIED:20210914T090949Z
UID:742-1632729600-1632751200@www.bezpecnypristav.sk
SUMMARY:Prednášky na školách - Gymnázium Šrobárova 1\, Košice
DESCRIPTION:dňa 27.9.2021 budeme v rámci projektu podporeného Fondom zdravia mesta Košice prednášať na Gymnáziu Šrobárova 1 v Košiciach. Na toto gymnáziu sa opakovane radi vraciame a máme na nej za sebou už veľa odškolených hodín na tému konfliktov\, či už slovných alebo fyzických\, ich riešeniu\, spôsobom ich eliminácie zvyšovaní povedomia a praktických zručností študentov v oblasti vlastného bezpečia a prevencie konfliktov. Opakovane sa budeme sa venovať aj témam prevencie\, situačnej pozornosti\, práce s vlastným priestorom a vlastným bezpečím.
URL:https://www.bezpecnypristav.sk/event/prednasky-na-skolach-gymnazium-srobarova-1-kosice/
ATTACH;FMTTYPE=image/jpeg:https://www.bezpecnypristav.sk/wp-content/uploads/2019/03/Realna_sebaobrana_Kosice-cesta-z-domu-gymanzium-srobarova-6.jpg
END:VEVENT
BEGIN:VEVENT
DTSTART;TZID=Europe/Bratislava:20210925T090000
DTEND;TZID=Europe/Bratislava:20210925T160000
DTSTAMP:20260426T053850
CREATED:20210913T074326Z
LAST-MODIFIED:20210919T110004Z
UID:711-1632560400-1632585600@www.bezpecnypristav.sk
SUMMARY:Kurz sebaobrany zadarmo  - vstup voľný
DESCRIPTION:Pozývame vás na otvorený seminár sebaobrany a osobného bezpečia. Seminár je zdarma a je podporený mestom Košice. V praktických nácvikoch rôznych situácií sa naučíte ako predchádzať slovným aj fyzickým konfliktom\, ako ich ukľudniť ale aj čo spraviť ak na vás útočník zaútočí. Budeme sa venovať aj témam prevencie\, situačnej pozornosti\, práce s vlastným priestorom a vlastným bezpečím.\nSeminár je rozdelený na dva nezávislé bloky od 9:00 do 12:00 a od 13:00 do 16:00\nSeminár je a určený pre všetkých od 16 rokov a bude sa riadiť aktuálne platnými opatreniami v súvislosti s koronavírusom. Priebežne vás o nich budeme informovať. Na seminár je povinná registrácia emailom na info@bezpecnypristav.sk\n#sebaobrana #nebudobet #sebaobranazeny #sebaobranajuniori #realnasebaobranakosice #kosice #sebaobranadeti #bezpecnypristav #mestokosice #kosice #zdravie #postcovid #bezpecie #sebaobranamuzi #sebaobranadospeli
URL:https://www.bezpecnypristav.sk/event/sebaobrana-pre-zeny/
CATEGORIES:odporúčané
ATTACH;FMTTYPE=image/jpeg:https://www.bezpecnypristav.sk/wp-content/uploads/2021/09/kurz_sebaobrany_bezpecny_pristav_2019_kosice1.jpeg
END:VEVENT
BEGIN:VEVENT
DTSTART;TZID=Europe/Bratislava:20210923T080000
DTEND;TZID=Europe/Bratislava:20210923T140000
DTSTAMP:20260426T053850
CREATED:20210914T090642Z
LAST-MODIFIED:20210914T090642Z
UID:737-1632384000-1632405600@www.bezpecnypristav.sk
SUMMARY:Prednášky na školách - Gymnázium Opatovská cestea 7\, Košice
DESCRIPTION:V dňoch 21.9. a 23.9.2021 budeme v rámci projektu podporeného Fondom zdravia mesta Košice prednášať na Gymnáziu Opatovská cesta 7 v Košiciach na tému konfliktov\, či už slovných alebo fyzických\, ich riešeniu\, spôsobom ich eliminácie. Budeme sa venovať aj témam prevencie\, situačnej pozornosti\, práce s vlastným priestorom a vlastným bezpečím.
URL:https://www.bezpecnypristav.sk/event/prednasky-na-skolach-gymnazium-opatovska-cestea-7-kosice-2/
ATTACH;FMTTYPE=image/jpeg:https://www.bezpecnypristav.sk/wp-content/uploads/2021/09/gymnazium_opatovska.jpeg
END:VEVENT
BEGIN:VEVENT
DTSTART;TZID=Europe/Bratislava:20210922T080000
DTEND;TZID=Europe/Bratislava:20210922T120000
DTSTAMP:20260426T053850
CREATED:20211119T114428Z
LAST-MODIFIED:20211119T115230Z
UID:789-1632297600-1632312000@www.bezpecnypristav.sk
SUMMARY:Prednášky na školách – ZŠ Užhorodská\, Košice
DESCRIPTION:V dňoch 22.9.2021 budeme v rámci projektu podporeného Fondom zdravia mesta Košice prednášať na Základnej škole na Užhorodskej ulici v Košiciach na tému konfliktov\, či už slovných alebo fyzických\, ich riešeniu\, spôsobom ich eliminácie. Budeme sa venovať aj témam prevencie\, situačnej pozornosti\, práce s vlastným priestorom a vlastným bezpečím.
URL:https://www.bezpecnypristav.sk/event/prednasky-na-skolach-zs-uzhorodska-kosice/
CATEGORIES:fond zdravia
ATTACH;FMTTYPE=image/png:https://www.bezpecnypristav.sk/wp-content/uploads/2021/11/cloud.png
END:VEVENT
BEGIN:VEVENT
DTSTART;TZID=Europe/Bratislava:20210921T080000
DTEND;TZID=Europe/Bratislava:20210921T140000
DTSTAMP:20260426T053850
CREATED:20210914T090505Z
LAST-MODIFIED:20210914T093110Z
UID:738-1632211200-1632232800@www.bezpecnypristav.sk
SUMMARY:Prednášky na školách - Gymnázium Opatovská cesta 7\, Košice
DESCRIPTION:V dňoch 21.9. a 23.9.2021 budeme v rámci projektu podporeného Fondom zdravia mesta Košice prednášať na Gymnáziu Opatovská cesta 7 v Košiciach na tému konfliktov\, či už slovných alebo fyzických\, ich riešeniu\, spôsobom ich eliminácie. Budeme sa venovať aj témam prevencie\, situačnej pozornosti\, práce s vlastným priestorom a vlastným bezpečím.
URL:https://www.bezpecnypristav.sk/event/prednasky-na-skolach-gymnazium-opatovska-cestea-7-kosice/
ATTACH;FMTTYPE=image/jpeg:https://www.bezpecnypristav.sk/wp-content/uploads/2021/09/gymnazium_opatovska.jpeg
END:VEVENT
BEGIN:VEVENT
DTSTART;TZID=Europe/Bratislava:20210920T080000
DTEND;TZID=Europe/Bratislava:20210920T140000
DTSTAMP:20260426T053850
CREATED:20210914T090218Z
LAST-MODIFIED:20230307T083503Z
UID:735-1632124800-1632146400@www.bezpecnypristav.sk
SUMMARY:Prednášky na školách -  ZŠ Jozefa Urbana\, Košice
DESCRIPTION:V dňoch 17.9. a 20.9.2021 budeme v rámci projektu podporeného Fondom zdravia mesta Košice prednášať na Základnej škole Jozefa Urbana na Jenisejskej ulici v Košiciach. Na túto školu sa opakovane radi vraciame a máme na nej za sebou už veľa odškolených hodín na tému konfliktov\, či už slovných alebo fyzických\, ich riešeniu\, spôsobom ich eliminácie. Opakovane sa budeme sa venovať aj témam prevencie\, situačnej pozornosti\, práce s vlastným priestorom a vlastným bezpečím.
URL:https://www.bezpecnypristav.sk/event/prednasky-na-skolach-zs-jozefa-urbana-kosice-2/
LOCATION:zš jozefa urbana\, košice\, Jenisejská 22\, Košice\, Slovenská republika
ATTACH;FMTTYPE=image/jpeg:https://www.bezpecnypristav.sk/wp-content/uploads/2021/09/zs_jenisejska_logo.jpeg
END:VEVENT
BEGIN:VEVENT
DTSTART;TZID=Europe/Bratislava:20210917T080000
DTEND;TZID=Europe/Bratislava:20210917T140000
DTSTAMP:20260426T053850
CREATED:20210914T085925Z
LAST-MODIFIED:20210914T085925Z
UID:733-1631865600-1631887200@www.bezpecnypristav.sk
SUMMARY:Prednášky na školách -  ZŠ Jozefa Urbana\, Košice
DESCRIPTION:V dňoch 17.9. a 20.9.2021 budeme v rámci projektu podporeného Fondom zdravia mesta Košice prednášať na Základnej škole Jozefa Urbana na Jenisejskej ulici v Košiciach. Na túto školu sa opakovane radi vraciame a máme na nej za sebou už veľa odškolených hodín na tému konfliktov\, či už slovných alebo fyzických\, ich riešeniu\, spôsobom ich eliminácie. Opakovane sa budeme sa venovať aj témam prevencie\, situačnej pozornosti\, práce s vlastným priestorom a vlastným bezpečím.
URL:https://www.bezpecnypristav.sk/event/prednasky-na-skolach-zs-jozefa-urbana-kosice/
ATTACH;FMTTYPE=image/jpeg:https://www.bezpecnypristav.sk/wp-content/uploads/2021/09/zs_jenisejska_logo.jpeg
END:VEVENT
END:VCALENDAR